Package: ChIPanalyser Version: 1.30.0 Command: /Library/Frameworks/R.framework/Resources/bin/R CMD build --keep-empty-dirs --no-resave-data ChIPanalyser StartedAt: 2025-05-19 20:42:51 -0400 (Mon, 19 May 2025) EndedAt: 2025-05-19 21:02:05 -0400 (Mon, 19 May 2025) EllapsedTime: 1154.3 seconds RetCode: 0 Status: OK PackageFile: ChIPanalyser_1.30.0.tar.gz PackageFileSize: 1.245 MiB