Package: ChIPXpress Version: 1.50.0 Command: /home/biocbuild/R/R/bin/R CMD build --keep-empty-dirs --no-resave-data ChIPXpress StartedAt: 2025-01-30 22:35:29 -0000 (Thu, 30 Jan 2025) EndedAt: 2025-01-30 22:36:42 -0000 (Thu, 30 Jan 2025) EllapsedTime: 73.0 seconds RetCode: 0 Status: OK PackageFile: ChIPXpress_1.50.0.tar.gz PackageFileSize: 440.5 KiB