Package: ChIPXpress
Version: 1.50.0
Command: /home/biocbuild/R/R/bin/R CMD build --keep-empty-dirs --no-resave-data ChIPXpress
StartedAt: 2024-11-19 23:40:28 -0000 (Tue, 19 Nov 2024)
EndedAt: 2024-11-19 23:41:54 -0000 (Tue, 19 Nov 2024)
EllapsedTime: 86.1 seconds
RetCode: 0
Status: OK
PackageFile: ChIPXpress_1.50.0.tar.gz
PackageFileSize: 441 <A href="http://en.wikipedia.org/wiki/KiB" target="_blank">KiB</A>