Package: ChIPXpress Version: 1.50.0 Command: /Library/Frameworks/R.framework/Resources/bin/R CMD check --install=check:ChIPXpress.install-out.txt --library=/Library/Frameworks/R.framework/Resources/library --no-vignettes --timings ChIPXpress_1.50.0.tar.gz StartedAt: 2025-02-11 14:28:27 -0500 (Tue, 11 Feb 2025) EndedAt: 2025-02-11 14:32:46 -0500 (Tue, 11 Feb 2025) EllapsedTime: 258.9 seconds RetCode: 0 Status: OK CheckDir: ChIPXpress.Rcheck Warnings: 0