Package: ChIPXpress Version: 1.52.0 Command: /Library/Frameworks/R.framework/Resources/bin/R CMD build --keep-empty-dirs --no-resave-data ChIPXpress StartedAt: 2025-05-08 20:53:17 -0400 (Thu, 08 May 2025) EndedAt: 2025-05-08 20:54:17 -0400 (Thu, 08 May 2025) EllapsedTime: 59.5 seconds RetCode: 0 Status: OK PackageFile: ChIPXpress_1.52.0.tar.gz PackageFileSize: 447.7 KiB