############################################################################## ############################################################################## ### ### Running command: ### ### rm -rf ChIPXpress.buildbin-libdir && mkdir ChIPXpress.buildbin-libdir && /Users/biocbuild/BBS/utils/build-universal.sh ChIPXpress_1.52.0.tar.gz /Library/Frameworks/R.framework/Resources/bin/R ChIPXpress.buildbin-libdir ### ############################################################################## ############################################################################## >>>>>>> >>>>>>> INSTALLATION WITH 'R CMD INSTALL --preclean --no-multiarch --library=ChIPXpress.buildbin-libdir ChIPXpress_1.52.0.tar.gz' >>>>>>> * installing *source* package ‘ChIPXpress’ ... ** this is package ‘ChIPXpress’ version ‘1.52.0’ ** using staged installation ** R ** data ** inst ** byte-compile and prepare package for lazy loading ** help *** installing help indices ** building package indices ** installing vignettes ** testing if installed package can be loaded from temporary location ** testing if installed package can be loaded from final location ** testing if installed package keeps a record of temporary installation path * DONE (ChIPXpress) chown: ChIPXpress.buildbin-libdir/ChIPXpress/R/ChIPXpress.rdb: Operation not permitted chown: ChIPXpress.buildbin-libdir/ChIPXpress/R/ChIPXpress.rdx: Operation not permitted chown: ChIPXpress.buildbin-libdir/ChIPXpress/R/ChIPXpress: Operation not permitted chown: ChIPXpress.buildbin-libdir/ChIPXpress/R: Operation not permitted chown: ChIPXpress.buildbin-libdir/ChIPXpress/unitTests/test_all.R: Operation not permitted chown: ChIPXpress.buildbin-libdir/ChIPXpress/unitTests: Operation not permitted chown: ChIPXpress.buildbin-libdir/ChIPXpress/Meta/vignette.rds: Operation not permitted chown: ChIPXpress.buildbin-libdir/ChIPXpress/Meta/data.rds: Operation not permitted chown: ChIPXpress.buildbin-libdir/ChIPXpress/Meta/links.rds: Operation not permitted chown: ChIPXpress.buildbin-libdir/ChIPXpress/Meta/features.rds: Operation not permitted chown: ChIPXpress.buildbin-libdir/ChIPXpress/Meta/nsInfo.rds: Operation not permitted chown: ChIPXpress.buildbin-libdir/ChIPXpress/Meta/package.rds: Operation not permitted chown: ChIPXpress.buildbin-libdir/ChIPXpress/Meta/hsearch.rds: Operation not permitted chown: ChIPXpress.buildbin-libdir/ChIPXpress/Meta/Rd.rds: Operation not permitted chown: ChIPXpress.buildbin-libdir/ChIPXpress/Meta: Operation not permitted chown: ChIPXpress.buildbin-libdir/ChIPXpress/NAMESPACE: Operation not permitted chown: ChIPXpress.buildbin-libdir/ChIPXpress/html/R.css: Operation not permitted chown: ChIPXpress.buildbin-libdir/ChIPXpress/html/00Index.html: Operation not permitted chown: ChIPXpress.buildbin-libdir/ChIPXpress/html: Operation not permitted chown: ChIPXpress.buildbin-libdir/ChIPXpress/DESCRIPTION: Operation not permitted chown: ChIPXpress.buildbin-libdir/ChIPXpress/INDEX: Operation not permitted chown: ChIPXpress.buildbin-libdir/ChIPXpress/doc/ChIPXpress.R: Operation not permitted chown: ChIPXpress.buildbin-libdir/ChIPXpress/doc/index.html: Operation not permitted chown: ChIPXpress.buildbin-libdir/ChIPXpress/doc/ChIPXpress.pdf: Operation not permitted chown: ChIPXpress.buildbin-libdir/ChIPXpress/doc/ChIPXpress.Rnw: Operation not permitted chown: ChIPXpress.buildbin-libdir/ChIPXpress/doc: Operation not permitted chown: ChIPXpress.buildbin-libdir/ChIPXpress/data/Oct4ESC_ChIPgenes.rda: Operation not permitted chown: ChIPXpress.buildbin-libdir/ChIPXpress/data: Operation not permitted chown: ChIPXpress.buildbin-libdir/ChIPXpress/help/AnIndex: Operation not permitted chown: ChIPXpress.buildbin-libdir/ChIPXpress/help/aliases.rds: Operation not permitted chown: ChIPXpress.buildbin-libdir/ChIPXpress/help/ChIPXpress.rdb: Operation not permitted chown: ChIPXpress.buildbin-libdir/ChIPXpress/help/ChIPXpress.rdx: Operation not permitted chown: ChIPXpress.buildbin-libdir/ChIPXpress/help/paths.rds: Operation not permitted chown: ChIPXpress.buildbin-libdir/ChIPXpress/help: Operation not permitted chown: ChIPXpress.buildbin-libdir/ChIPXpress: Operation not permitted