Package: ChIPComp Version: 1.38.0 Command: /home/biocbuild/bbs-3.21-bioc/R/bin/R CMD INSTALL ChIPComp StartedAt: 2025-10-15 15:33:42 -0400 (Wed, 15 Oct 2025) EndedAt: 2025-10-15 15:34:13 -0400 (Wed, 15 Oct 2025) EllapsedTime: 30.7 seconds RetCode: 0 Status: OK