Package: CexoR Version: 1.44.0 Command: /home/biocbuild/R/R/bin/R CMD check --install=check:CexoR.install-out.txt --library=/home/biocbuild/R/R/site-library --no-vignettes --timings CexoR_1.44.0.tar.gz StartedAt: 2025-01-31 04:47:29 -0000 (Fri, 31 Jan 2025) EndedAt: 2025-01-31 04:53:37 -0000 (Fri, 31 Jan 2025) EllapsedTime: 368.4 seconds RetCode: 0 Status: OK CheckDir: CexoR.Rcheck Warnings: 0