Package: CexoR Version: 1.44.0 Command: /home/biocbuild/R/R/bin/R CMD build --keep-empty-dirs --no-resave-data CexoR StartedAt: 2025-01-30 22:29:52 -0000 (Thu, 30 Jan 2025) EndedAt: 2025-01-30 22:31:06 -0000 (Thu, 30 Jan 2025) EllapsedTime: 74.0 seconds RetCode: 0 Status: OK PackageFile: CexoR_1.44.0.tar.gz PackageFileSize: 1.651 MiB