Package: CexoR Version: 1.46.0 Command: /Library/Frameworks/R.framework/Resources/bin/R CMD build --keep-empty-dirs --no-resave-data CexoR StartedAt: 2025-05-01 17:41:19 -0400 (Thu, 01 May 2025) EndedAt: 2025-05-01 17:43:30 -0400 (Thu, 01 May 2025) EllapsedTime: 130.2 seconds RetCode: 0 Status: OK PackageFile: CexoR_1.46.0.tar.gz PackageFileSize: 1.659 MiB