Package: CexoR Version: 1.46.0 Command: /Library/Frameworks/R.framework/Resources/bin/R CMD build --keep-empty-dirs --no-resave-data CexoR StartedAt: 2025-05-05 20:38:04 -0400 (Mon, 05 May 2025) EndedAt: 2025-05-05 20:39:20 -0400 (Mon, 05 May 2025) EllapsedTime: 75.7 seconds RetCode: 0 Status: OK PackageFile: CexoR_1.46.0.tar.gz PackageFileSize: 1.659 MiB