Package: Cepo Version: 1.12.0 Command: /home/biocbuild/bbs-3.20-bioc/R/bin/R CMD check --install=check:Cepo.install-out.txt --library=/home/biocbuild/bbs-3.20-bioc/R/site-library --timings Cepo_1.12.0.tar.gz StartedAt: 2025-01-30 20:40:57 -0500 (Thu, 30 Jan 2025) EndedAt: 2025-01-30 20:45:56 -0500 (Thu, 30 Jan 2025) EllapsedTime: 299.3 seconds RetCode: 0 Status: OK CheckDir: Cepo.Rcheck Warnings: 0