Package: Cepo Version: 1.14.0 Command: /home/biocbuild/R/R/bin/R CMD INSTALL Cepo StartedAt: 2025-04-21 20:50:18 -0000 (Mon, 21 Apr 2025) EndedAt: 2025-04-21 20:51:08 -0000 (Mon, 21 Apr 2025) EllapsedTime: 49.8 seconds RetCode: 0 Status: OK