Package: Cepo Version: 1.14.0 Command: /home/biocbuild/R/R/bin/R CMD build --keep-empty-dirs --no-resave-data Cepo StartedAt: 2025-04-21 23:25:25 -0000 (Mon, 21 Apr 2025) EndedAt: 2025-04-21 23:33:00 -0000 (Mon, 21 Apr 2025) EllapsedTime: 455.1 seconds RetCode: 0 Status: OK PackageFile: Cepo_1.14.0.tar.gz PackageFileSize: 3.05 MiB