Package: Cepo Version: 1.14.0 Command: /Library/Frameworks/R.framework/Resources/bin/R CMD check --install=check:Cepo.install-out.txt --library=/Library/Frameworks/R.framework/Resources/library --no-vignettes --timings Cepo_1.14.0.tar.gz StartedAt: 2025-04-21 18:34:08 -0400 (Mon, 21 Apr 2025) EndedAt: 2025-04-21 18:35:46 -0400 (Mon, 21 Apr 2025) EllapsedTime: 97.2 seconds RetCode: 0 Status: OK CheckDir: Cepo.Rcheck Warnings: 0