Package: CelliD Version: 1.16.0 Command: chmod a+r CelliD -R && E:\biocbuild\bbs-3.21-bioc\R\bin\R.exe CMD build --keep-empty-dirs --no-resave-data CelliD StartedAt: 2025-08-14 17:54:02 -0400 (Thu, 14 Aug 2025) EndedAt: 2025-08-14 18:05:42 -0400 (Thu, 14 Aug 2025) EllapsedTime: 700.0 seconds RetCode: 0 Status: OK PackageFile: CelliD_1.16.0.tar.gz PackageFileSize: 912.7 KiB