Package: CelliD Version: 1.16.0 Command: /home/biocbuild/R/R/bin/R CMD check --install=check:CelliD.install-out.txt --library=/home/biocbuild/R/R/site-library --no-vignettes --timings CelliD_1.16.0.tar.gz StartedAt: 2025-05-06 06:49:48 -0000 (Tue, 06 May 2025) EndedAt: 2025-05-06 06:57:02 -0000 (Tue, 06 May 2025) EllapsedTime: 434.3 seconds RetCode: 0 Status: WARNINGS CheckDir: CelliD.Rcheck Warnings: 1