Package: CelliD Version: 1.16.0 Maintainer: Akira Cortal MaintainerEmail: akira.cortal at institutimagine.org git_url: https://git.bioconductor.org/packages/CelliD git_branch: RELEASE_3_21 git_last_commit: e57a743 git_last_commit_date: 2025-04-15 12:23:04 -0400 (Tue, 15 Apr 2025)