Package: CellScore Version: 1.28.0 Command: /home/biocbuild/bbs-3.21-bioc/R/bin/R CMD build --keep-empty-dirs --no-resave-data CellScore StartedAt: 2025-10-12 16:39:18 -0400 (Sun, 12 Oct 2025) EndedAt: 2025-10-12 16:41:54 -0400 (Sun, 12 Oct 2025) EllapsedTime: 156.1 seconds RetCode: 1 Status: ERROR PackageFile: None PackageFileSize: NA