Package: CellMixS Version: 1.22.0 Command: /home/biocbuild/R/R/bin/R CMD check --install=check:CellMixS.install-out.txt --library=/home/biocbuild/R/R/site-library --no-vignettes --timings CellMixS_1.22.0.tar.gz StartedAt: 2025-01-31 04:45:24 -0000 (Fri, 31 Jan 2025) EndedAt: 2025-01-31 04:50:03 -0000 (Fri, 31 Jan 2025) EllapsedTime: 279.2 seconds RetCode: 0 Status: OK CheckDir: CellMixS.Rcheck Warnings: 0