Package: CellMixS Version: 1.24.0 Command: rm -rf CellMixS.buildbin-libdir && mkdir CellMixS.buildbin-libdir && E:\biocbuild\bbs-3.21-bioc\R\bin\R.exe CMD INSTALL --build --library=CellMixS.buildbin-libdir CellMixS_1.24.0.tar.gz StartedAt: 2025-08-15 08:57:17 -0400 (Fri, 15 Aug 2025) EndedAt: 2025-08-15 08:58:00 -0400 (Fri, 15 Aug 2025) EllapsedTime: 42.7 seconds RetCode: 0 Status: OK PackageFile: CellMixS_1.24.0.zip PackageFileSize: 2.696 MiB