Package: CellMixS Version: 1.24.0 Command: /Library/Frameworks/R.framework/Resources/bin/R CMD build --keep-empty-dirs --no-resave-data CellMixS StartedAt: 2025-04-21 15:50:56 -0400 (Mon, 21 Apr 2025) EndedAt: 2025-04-21 15:51:49 -0400 (Mon, 21 Apr 2025) EllapsedTime: 52.6 seconds RetCode: 0 Status: OK PackageFile: CellMixS_1.24.0.tar.gz PackageFileSize: 4.125 MiB