Package: CellMixS Version: 1.24.0 Maintainer: Almut Lütge MaintainerEmail: almut.lue at gmail.com git_url: https://git.bioconductor.org/packages/CellMixS git_branch: RELEASE_3_21 git_last_commit: c53e6c4 git_last_commit_date: 2025-04-15 11:43:07 -0400 (Tue, 15 Apr 2025)