Package: CellMapper Version: 1.32.0 Command: chmod a+r CellMapper -R && F:\biocbuild\bbs-3.20-bioc\R\bin\R.exe CMD build --keep-empty-dirs --no-resave-data CellMapper StartedAt: 2025-02-03 18:00:17 -0500 (Mon, 03 Feb 2025) EndedAt: 2025-02-03 18:02:44 -0500 (Mon, 03 Feb 2025) EllapsedTime: 146.4 seconds RetCode: 0 Status: OK PackageFile: CellMapper_1.32.0.tar.gz PackageFileSize: 207 KiB