Package: CellMapper Version: 1.32.0 Command: /home/biocbuild/bbs-3.20-bioc/R/bin/R CMD check --install=check:CellMapper.install-out.txt --library=/home/biocbuild/bbs-3.20-bioc/R/site-library --timings CellMapper_1.32.0.tar.gz StartedAt: 2025-02-03 20:48:51 -0500 (Mon, 03 Feb 2025) EndedAt: 2025-02-03 20:53:04 -0500 (Mon, 03 Feb 2025) EllapsedTime: 253.2 seconds RetCode: 0 Status: WARNINGS CheckDir: CellMapper.Rcheck Warnings: 1