Package: CellMapper Version: 1.34.0 Command: /home/biocbuild/bbs-3.21-bioc/R/bin/R CMD INSTALL CellMapper StartedAt: 2025-10-08 15:12:12 -0400 (Wed, 08 Oct 2025) EndedAt: 2025-10-08 15:12:17 -0400 (Wed, 08 Oct 2025) EllapsedTime: 4.7 seconds RetCode: 0 Status: OK