Package: CellMapper Version: 1.34.0 Command: /home/biocbuild/bbs-3.21-bioc/R/bin/R CMD build --keep-empty-dirs --no-resave-data CellMapper StartedAt: 2025-10-08 16:38:36 -0400 (Wed, 08 Oct 2025) EndedAt: 2025-10-08 16:40:18 -0400 (Wed, 08 Oct 2025) EllapsedTime: 102.1 seconds RetCode: 0 Status: OK PackageFile: CellMapper_1.34.0.tar.gz PackageFileSize: 205.9 KiB