Package: CellMapper Version: 1.32.0 Command: /Library/Frameworks/R.framework/Resources/bin/R CMD INSTALL CellMapper StartedAt: 2025-01-30 15:10:03 -0500 (Thu, 30 Jan 2025) EndedAt: 2025-01-30 15:10:38 -0500 (Thu, 30 Jan 2025) EllapsedTime: 35.2 seconds RetCode: 0 Status: OK