Package: CellMapper Version: 1.32.0 Command: /Library/Frameworks/R.framework/Resources/bin/R CMD check --install=check:CellMapper.install-out.txt --library=/Library/Frameworks/R.framework/Resources/library --no-vignettes --timings CellMapper_1.32.0.tar.gz StartedAt: 2025-01-31 01:21:59 -0500 (Fri, 31 Jan 2025) EndedAt: 2025-01-31 01:26:59 -0500 (Fri, 31 Jan 2025) EllapsedTime: 299.5 seconds RetCode: 0 Status: WARNINGS CheckDir: CellMapper.Rcheck Warnings: 1