Package: CellMapper Version: 1.34.0 Command: /home/biocbuild/R/R/bin/R CMD build --keep-empty-dirs --no-resave-data CellMapper StartedAt: 2025-07-22 05:54:02 -0000 (Tue, 22 Jul 2025) EndedAt: 2025-07-22 05:57:54 -0000 (Tue, 22 Jul 2025) EllapsedTime: 232.1 seconds RetCode: 0 Status: OK PackageFile: CellMapper_1.34.0.tar.gz PackageFileSize: 198 KiB