############################################################################## ############################################################################## ### ### Running command: ### ### rm -rf CellMapper.buildbin-libdir && mkdir CellMapper.buildbin-libdir && /Users/biocbuild/BBS/utils/build-universal.sh CellMapper_1.34.0.tar.gz /Library/Frameworks/R.framework/Resources/bin/R CellMapper.buildbin-libdir ### ############################################################################## ############################################################################## >>>>>>> >>>>>>> INSTALLATION WITH 'R CMD INSTALL --preclean --no-multiarch --library=CellMapper.buildbin-libdir CellMapper_1.34.0.tar.gz' >>>>>>> * installing *source* package ‘CellMapper’ ... ** this is package ‘CellMapper’ version ‘1.34.0’ ** using staged installation ** R ** data ** inst ** byte-compile and prepare package for lazy loading Warning: replacing previous import ‘stats::var’ by ‘S4Vectors::var’ when loading ‘CellMapper’ Warning: replacing previous import ‘stats::sd’ by ‘S4Vectors::sd’ when loading ‘CellMapper’ ** help *** installing help indices ** building package indices ** installing vignettes ** testing if installed package can be loaded from temporary location Warning: replacing previous import ‘stats::var’ by ‘S4Vectors::var’ when loading ‘CellMapper’ Warning: replacing previous import ‘stats::sd’ by ‘S4Vectors::sd’ when loading ‘CellMapper’ ** testing if installed package can be loaded from final location Warning: replacing previous import ‘stats::var’ by ‘S4Vectors::var’ when loading ‘CellMapper’ Warning: replacing previous import ‘stats::sd’ by ‘S4Vectors::sd’ when loading ‘CellMapper’ ** testing if installed package keeps a record of temporary installation path * DONE (CellMapper) chown: CellMapper.buildbin-libdir/CellMapper/CITATION: Operation not permitted chown: CellMapper.buildbin-libdir/CellMapper/R/CellMapper: Operation not permitted chown: CellMapper.buildbin-libdir/CellMapper/R/CellMapper.rdx: Operation not permitted chown: CellMapper.buildbin-libdir/CellMapper/R/CellMapper.rdb: Operation not permitted chown: CellMapper.buildbin-libdir/CellMapper/R: Operation not permitted chown: CellMapper.buildbin-libdir/CellMapper/Meta/vignette.rds: Operation not permitted chown: CellMapper.buildbin-libdir/CellMapper/Meta/data.rds: Operation not permitted chown: CellMapper.buildbin-libdir/CellMapper/Meta/links.rds: Operation not permitted chown: CellMapper.buildbin-libdir/CellMapper/Meta/features.rds: Operation not permitted chown: CellMapper.buildbin-libdir/CellMapper/Meta/nsInfo.rds: Operation not permitted chown: CellMapper.buildbin-libdir/CellMapper/Meta/package.rds: Operation not permitted chown: CellMapper.buildbin-libdir/CellMapper/Meta/hsearch.rds: Operation not permitted chown: CellMapper.buildbin-libdir/CellMapper/Meta/Rd.rds: Operation not permitted chown: CellMapper.buildbin-libdir/CellMapper/Meta: Operation not permitted chown: CellMapper.buildbin-libdir/CellMapper/NAMESPACE: Operation not permitted chown: CellMapper.buildbin-libdir/CellMapper/html/R.css: Operation not permitted chown: CellMapper.buildbin-libdir/CellMapper/html/00Index.html: Operation not permitted chown: CellMapper.buildbin-libdir/CellMapper/html: Operation not permitted chown: CellMapper.buildbin-libdir/CellMapper/DESCRIPTION: Operation not permitted chown: CellMapper.buildbin-libdir/CellMapper/NEWS: Operation not permitted chown: CellMapper.buildbin-libdir/CellMapper/INDEX: Operation not permitted chown: CellMapper.buildbin-libdir/CellMapper/doc/index.html: Operation not permitted chown: CellMapper.buildbin-libdir/CellMapper/doc/CellMapper.Rnw: Operation not permitted chown: CellMapper.buildbin-libdir/CellMapper/doc/CellMapper.pdf: Operation not permitted chown: CellMapper.buildbin-libdir/CellMapper/doc/CellMapper.R: Operation not permitted chown: CellMapper.buildbin-libdir/CellMapper/doc: Operation not permitted chown: CellMapper.buildbin-libdir/CellMapper/data/ExampleQueryGenes.rda: Operation not permitted chown: CellMapper.buildbin-libdir/CellMapper/data/NegativeControlGenes.rda: Operation not permitted chown: CellMapper.buildbin-libdir/CellMapper/data/PositiveControlGenes.rda: Operation not permitted chown: CellMapper.buildbin-libdir/CellMapper/data: Operation not permitted chown: CellMapper.buildbin-libdir/CellMapper/help/AnIndex: Operation not permitted chown: CellMapper.buildbin-libdir/CellMapper/help/aliases.rds: Operation not permitted chown: CellMapper.buildbin-libdir/CellMapper/help/CellMapper.rdx: Operation not permitted chown: CellMapper.buildbin-libdir/CellMapper/help/paths.rds: Operation not permitted chown: CellMapper.buildbin-libdir/CellMapper/help/CellMapper.rdb: Operation not permitted chown: CellMapper.buildbin-libdir/CellMapper/help: Operation not permitted chown: CellMapper.buildbin-libdir/CellMapper: Operation not permitted