Package: CellBench Version: 1.22.0 Command: /home/biocbuild/R/R/bin/R CMD check --install=check:CellBench.install-out.txt --library=/home/biocbuild/R/R/site-library --no-vignettes --timings CellBench_1.22.0.tar.gz StartedAt: 2025-01-31 04:43:46 -0000 (Fri, 31 Jan 2025) EndedAt: 2025-01-31 04:48:06 -0000 (Fri, 31 Jan 2025) EllapsedTime: 260.2 seconds RetCode: 0 Status: OK CheckDir: CellBench.Rcheck Warnings: 0