Package: CellBench Version: 1.24.0 Command: rm -rf CellBench.buildbin-libdir && mkdir CellBench.buildbin-libdir && E:\biocbuild\bbs-3.21-bioc\R\bin\R.exe CMD INSTALL --build --library=CellBench.buildbin-libdir CellBench_1.24.0.tar.gz StartedAt: 2025-08-15 08:56:51 -0400 (Fri, 15 Aug 2025) EndedAt: 2025-08-15 08:57:39 -0400 (Fri, 15 Aug 2025) EllapsedTime: 47.7 seconds RetCode: 0 Status: OK PackageFile: CellBench_1.24.0.zip PackageFileSize: 3.036 MiB