Package: CellBench Version: 1.24.0 Command: rm -rf CellBench.buildbin-libdir && mkdir CellBench.buildbin-libdir && /Users/biocbuild/BBS/utils/build-universal.sh CellBench_1.24.0.tar.gz /Library/Frameworks/R.framework/Resources/bin/R CellBench.buildbin-libdir StartedAt: 2025-04-21 22:29:01 -0400 (Mon, 21 Apr 2025) EndedAt: 2025-04-21 22:29:14 -0400 (Mon, 21 Apr 2025) EllapsedTime: 12.3 seconds RetCode: 0 Status: OK PackageFile: CellBench_1.24.0.tgz PackageFileSize: 3.093 MiB