Package: CeTF Version: 1.18.0 Command: /home/biocbuild/R/R/bin/R CMD check --install=check:CeTF.install-out.txt --library=/home/biocbuild/R/R/site-library --no-vignettes --timings CeTF_1.18.0.tar.gz StartedAt: 2025-01-31 04:47:19 -0000 (Fri, 31 Jan 2025) EndedAt: 2025-01-31 04:53:15 -0000 (Fri, 31 Jan 2025) EllapsedTime: 356.4 seconds RetCode: 0 Status: OK CheckDir: CeTF.Rcheck Warnings: 0