Package: CeTF Version: 1.18.0 Command: /home/biocbuild/R/R/bin/R CMD build --keep-empty-dirs --no-resave-data CeTF StartedAt: 2025-02-03 22:30:22 -0000 (Mon, 03 Feb 2025) EndedAt: 2025-02-03 22:33:39 -0000 (Mon, 03 Feb 2025) EllapsedTime: 197.1 seconds RetCode: 0 Status: OK PackageFile: CeTF_1.18.0.tar.gz PackageFileSize: 2.987 MiB