Package: CausalR Version: 1.40.0 Command: rm -rf CausalR.buildbin-libdir && mkdir CausalR.buildbin-libdir && /Users/biocbuild/BBS/utils/build-universal.sh CausalR_1.40.0.tar.gz /Library/Frameworks/R.framework/Resources/bin/R CausalR.buildbin-libdir StartedAt: 2025-04-22 00:36:52 -0400 (Tue, 22 Apr 2025) EndedAt: 2025-04-22 00:37:00 -0400 (Tue, 22 Apr 2025) EllapsedTime: 8.0 seconds RetCode: 0 Status: OK PackageFile: CausalR_1.40.0.tgz PackageFileSize: 640.9 KiB