Package: CatsCradle Version: 1.2.0 Command: rm -rf CatsCradle.buildbin-libdir && mkdir CatsCradle.buildbin-libdir && /Users/biocbuild/BBS/utils/build-universal.sh CatsCradle_1.2.0.tar.gz /Library/Frameworks/R.framework/Resources/bin/R CatsCradle.buildbin-libdir StartedAt: 2025-04-22 00:36:51 -0400 (Tue, 22 Apr 2025) EndedAt: 2025-04-22 00:37:49 -0400 (Tue, 22 Apr 2025) EllapsedTime: 58.5 seconds RetCode: 0 Status: OK PackageFile: CatsCradle_1.2.0.tgz PackageFileSize: 8.495 MiB