Package: Category Version: 2.72.0 Command: /home/biocbuild/R/R/bin/R CMD INSTALL Category StartedAt: 2025-01-30 20:50:24 -0000 (Thu, 30 Jan 2025) EndedAt: 2025-01-30 20:50:54 -0000 (Thu, 30 Jan 2025) EllapsedTime: 29.2 seconds RetCode: 0 Status: OK