Package: Category Version: 2.72.0 Command: /home/biocbuild/R/R/bin/R CMD build --keep-empty-dirs --no-resave-data Category StartedAt: 2025-01-30 22:21:22 -0000 (Thu, 30 Jan 2025) EndedAt: 2025-01-30 22:22:56 -0000 (Thu, 30 Jan 2025) EllapsedTime: 94.0 seconds RetCode: 0 Status: OK PackageFile: Category_2.72.0.tar.gz PackageFileSize: 859.9 KiB