Package: CardinalIO Version: 1.6.0 Command: rm -rf CardinalIO.buildbin-libdir && mkdir CardinalIO.buildbin-libdir && E:\biocbuild\bbs-3.21-bioc\R\bin\R.exe CMD INSTALL --build --library=CardinalIO.buildbin-libdir CardinalIO_1.6.0.tar.gz StartedAt: 2025-08-15 08:55:16 -0400 (Fri, 15 Aug 2025) EndedAt: 2025-08-15 08:56:12 -0400 (Fri, 15 Aug 2025) EllapsedTime: 55.4 seconds RetCode: 0 Status: OK PackageFile: CardinalIO_1.6.0.zip PackageFileSize: 1.282 MiB