Package: Cardinal Version: 3.8.3 Command: /home/biocbuild/R/R/bin/R CMD check --install=check:Cardinal.install-out.txt --library=/home/biocbuild/R/R/site-library --no-vignettes --timings Cardinal_3.8.3.tar.gz StartedAt: 2025-01-31 04:37:34 -0000 (Fri, 31 Jan 2025) EndedAt: 2025-01-31 04:45:40 -0000 (Fri, 31 Jan 2025) EllapsedTime: 485.4 seconds RetCode: 0 Status: OK CheckDir: Cardinal.Rcheck Warnings: 0