Package: CalibraCurve Version: 1.0.0 Command: /home/biocbuild/bbs-3.22-bioc/R/bin/R CMD build --keep-empty-dirs --no-resave-data --md5 CalibraCurve StartedAt: 2025-11-02 16:52:03 -0500 (Sun, 02 Nov 2025) EndedAt: 2025-11-02 16:53:13 -0500 (Sun, 02 Nov 2025) EllapsedTime: 69.1 seconds RetCode: 0 Status: OK PackageFile: CalibraCurve_1.0.0.tar.gz PackageFileSize: 1.907 MiB