Package: CaMutQC Version: 1.2.0 Command: rm -rf CaMutQC.buildbin-libdir && mkdir CaMutQC.buildbin-libdir && /Users/biocbuild/BBS/utils/build-universal.sh CaMutQC_1.2.0.tar.gz /Library/Frameworks/R.framework/Resources/bin/R CaMutQC.buildbin-libdir StartedAt: 2025-01-31 12:27:48 -0500 (Fri, 31 Jan 2025) EndedAt: 2025-01-31 12:28:51 -0500 (Fri, 31 Jan 2025) EllapsedTime: 62.6 seconds RetCode: 0 Status: OK PackageFile: CaMutQC_1.2.0.tgz PackageFileSize: 4.117 MiB