Package: CaMutQC Version: 1.4.0 Command: /Library/Frameworks/R.framework/Resources/bin/R CMD build --keep-empty-dirs --no-resave-data CaMutQC StartedAt: 2025-04-28 20:25:09 -0400 (Mon, 28 Apr 2025) EndedAt: 2025-04-28 20:25:36 -0400 (Mon, 28 Apr 2025) EllapsedTime: 27.3 seconds RetCode: 0 Status: OK PackageFile: CaMutQC_1.4.0.tar.gz PackageFileSize: 4.842 MiB