Package: CaDrA Version: 1.6.0 Command: /home/biocbuild/R/R/bin/R CMD INSTALL CaDrA StartedAt: 2025-04-21 20:30:26 -0000 (Mon, 21 Apr 2025) EndedAt: 2025-04-21 20:31:01 -0000 (Mon, 21 Apr 2025) EllapsedTime: 34.7 seconds RetCode: 0 Status: OK