Package: CaDrA Version: 1.6.0 Command: /home/biocbuild/R/R/bin/R CMD check --install=check:CaDrA.install-out.txt --library=/home/biocbuild/R/R/site-library --no-vignettes --timings CaDrA_1.6.0.tar.gz StartedAt: 2025-05-06 06:39:38 -0000 (Tue, 06 May 2025) EndedAt: 2025-05-06 06:49:20 -0000 (Tue, 06 May 2025) EllapsedTime: 582.4 seconds RetCode: 0 Status: OK CheckDir: CaDrA.Rcheck Warnings: 0