Package: CaDrA Version: 1.6.0 Command: /Library/Frameworks/R.framework/Resources/bin/R CMD check --install=check:CaDrA.install-out.txt --library=/Library/Frameworks/R.framework/Resources/library --no-vignettes --timings CaDrA_1.6.0.tar.gz StartedAt: 2025-05-06 13:47:09 -0400 (Tue, 06 May 2025) EndedAt: 2025-05-06 13:54:41 -0400 (Tue, 06 May 2025) EllapsedTime: 451.4 seconds RetCode: 0 Status: OK CheckDir: CaDrA.Rcheck Warnings: 0