Package: CTexploreR Version: 1.2.0 Command: /home/biocbuild/R/R/bin/R CMD check --install=check:CTexploreR.install-out.txt --library=/home/biocbuild/R/R/site-library --no-vignettes --timings CTexploreR_1.2.0.tar.gz StartedAt: 2025-01-31 05:20:26 -0000 (Fri, 31 Jan 2025) EndedAt: 2025-01-31 05:47:45 -0000 (Fri, 31 Jan 2025) EllapsedTime: 1639.5 seconds RetCode: 0 Status: OK CheckDir: CTexploreR.Rcheck Warnings: 0