Package: CSSQ Version: 1.18.0 Command: /home/biocbuild/bbs-3.20-bioc/R/bin/R CMD INSTALL CSSQ StartedAt: 2025-01-02 15:28:29 -0500 (Thu, 02 Jan 2025) EndedAt: 2025-01-02 15:29:03 -0500 (Thu, 02 Jan 2025) EllapsedTime: 34.2 seconds RetCode: 0 Status: OK